BEGIN:VCALENDAR
VERSION:2.0
PRODID:-//eventon.com NONSGML v1.0//EN
CALSCALE:GREGORIAN
METHOD:PUBLISH
BEGIN:VEVENT
UID:69eb4e58126d0
DTSTAMP:20260424T130456
DTSTART:20250325T130000Z
DTEND:20250325T160000Z
TZID:Europe/Rome
LOCATION:
SUMMARY:Corso formazione alimentaristi (HACCP)
DESCRIPTION: Il corso è per le persone addette alla produzione\,  preparazione\,  manipolazione e vendita di alimenti che devono essere in possesso di adeguate conoscenze di igiene alimentare. &nbsp; &nbsp;\nhttps://www.aetformazione.it/corsi/corso-formazione-alimentaristi-haccp/
URL:https://www.aetformazione.it/corsi/corso-formazione-alimentaristi-haccp/
END:VEVENT
END:VCALENDAR